BEGIN:VCALENDAR
VERSION:2.0
PRODID:-//Made in Saudi Gate | منصة صنع في السعودية - ECPv6.9.1//NONSGML v1.0//EN
CALSCALE:GREGORIAN
METHOD:PUBLISH
X-WR-CALNAME:Made in Saudi Gate | منصة صنع في السعودية
X-ORIGINAL-URL:https://madeinsaudigate.com
X-WR-CALDESC:Events for Made in Saudi Gate | منصة صنع في السعودية
REFRESH-INTERVAL;VALUE=DURATION:PT1H
X-Robots-Tag:noindex
X-PUBLISHED-TTL:PT1H
BEGIN:VTIMEZONE
TZID:UTC
BEGIN:STANDARD
TZOFFSETFROM:+0000
TZOFFSETTO:+0000
TZNAME:UTC
DTSTART:20240101T000000
END:STANDARD
END:VTIMEZONE
BEGIN:VEVENT
DTSTART;TZID=UTC:20240219T040000
DTEND;TZID=UTC:20240221T223000
DTSTAMP:20260424T024952
CREATED:20240122T111130Z
LAST-MODIFIED:20240122T111130Z
UID:1030-1708315200-1708554600@madeinsaudigate.com
SUMMARY:Makkah Expo for Hotels & Restaurants 2024
DESCRIPTION:“The leading hotel and hospitality supplies event”\nWelcome to the 5th edition of Makkah Expo for Hotels & Restaurants. The show has witnessed a huge success and highlighted the major needs of hospitality sector for the past 5 years in Saudi Arabia. This leading event offers a huge opportunity for both hospitality suppliers and buyers\, whose looking to explore the latest hospitality trends including hotel amenities\, operating equipment & supplies\, hospitality technology\, catering services and much more. \n\nHighlights\n\nMore than 50\,000 products showcased\n10\,000+ key visitors\n10+ participating countries\n\n\n\nPopular among visitors for
URL:https://madeinsaudigate.com/event/makkah-expo-for-hotels-restaurants-2024/
ATTACH;FMTTYPE=image/jpeg:https://madeinsaudigate.com/wp-content/uploads/2024/01/download.jpeg
END:VEVENT
END:VCALENDAR